BEGIN:VCALENDAR
VERSION:2.0
PRODID:-//Buena Vista - ECPv6.15.20//NONSGML v1.0//EN
CALSCALE:GREGORIAN
METHOD:PUBLISH
X-ORIGINAL-URL:https://buenavistava.gov
X-WR-CALDESC:Events for Buena Vista
REFRESH-INTERVAL;VALUE=DURATION:PT1H
X-Robots-Tag:noindex
X-PUBLISHED-TTL:PT1H
BEGIN:VTIMEZONE
TZID:America/New_York
BEGIN:DAYLIGHT
TZOFFSETFROM:-0500
TZOFFSETTO:-0400
TZNAME:EDT
DTSTART:20210314T070000
END:DAYLIGHT
BEGIN:STANDARD
TZOFFSETFROM:-0400
TZOFFSETTO:-0500
TZNAME:EST
DTSTART:20211107T060000
END:STANDARD
BEGIN:DAYLIGHT
TZOFFSETFROM:-0500
TZOFFSETTO:-0400
TZNAME:EDT
DTSTART:20220313T070000
END:DAYLIGHT
BEGIN:STANDARD
TZOFFSETFROM:-0400
TZOFFSETTO:-0500
TZNAME:EST
DTSTART:20221106T060000
END:STANDARD
BEGIN:DAYLIGHT
TZOFFSETFROM:-0500
TZOFFSETTO:-0400
TZNAME:EDT
DTSTART:20230312T070000
END:DAYLIGHT
BEGIN:STANDARD
TZOFFSETFROM:-0400
TZOFFSETTO:-0500
TZNAME:EST
DTSTART:20231105T060000
END:STANDARD
END:VTIMEZONE
BEGIN:VEVENT
DTSTART;TZID=America/New_York:20220502T180000
DTEND;TZID=America/New_York:20220502T180000
DTSTAMP:20260421T160955
CREATED:20260113T184530Z
LAST-MODIFIED:20260409T135957Z
UID:10000114-1651514400-1651514400@buenavistava.gov
SUMMARY:Annual Economic Development Authority Meeting
DESCRIPTION:Members of the Buena Vista Economic Development Authority will meet in Council Chambers\, 2039 Sycamore Avenue\, at 6:00 p.m. on Monday\, May 2\, 2022. Find the agenda here.\n \nFor questions\, contact Kristina Ramsey at kristina.ramsey@bvcity.org or (540) 261-8616.
URL:https://buenavistava.gov/event/annual-economic-development-authority-meeting/
LOCATION:VA
END:VEVENT
END:VCALENDAR