BEGIN:VCALENDAR
VERSION:2.0
PRODID:-//Buena Vista - ECPv6.15.20//NONSGML v1.0//EN
CALSCALE:GREGORIAN
METHOD:PUBLISH
X-WR-CALNAME:Buena Vista
X-ORIGINAL-URL:https://buenavistava.gov
X-WR-CALDESC:Events for Buena Vista
REFRESH-INTERVAL;VALUE=DURATION:PT1H
X-Robots-Tag:noindex
X-PUBLISHED-TTL:PT1H
BEGIN:VTIMEZONE
TZID:America/New_York
BEGIN:DAYLIGHT
TZOFFSETFROM:-0500
TZOFFSETTO:-0400
TZNAME:EDT
DTSTART:20210314T070000
END:DAYLIGHT
BEGIN:STANDARD
TZOFFSETFROM:-0400
TZOFFSETTO:-0500
TZNAME:EST
DTSTART:20211107T060000
END:STANDARD
BEGIN:DAYLIGHT
TZOFFSETFROM:-0500
TZOFFSETTO:-0400
TZNAME:EDT
DTSTART:20220313T070000
END:DAYLIGHT
BEGIN:STANDARD
TZOFFSETFROM:-0400
TZOFFSETTO:-0500
TZNAME:EST
DTSTART:20221106T060000
END:STANDARD
BEGIN:DAYLIGHT
TZOFFSETFROM:-0500
TZOFFSETTO:-0400
TZNAME:EDT
DTSTART:20230312T070000
END:DAYLIGHT
BEGIN:STANDARD
TZOFFSETFROM:-0400
TZOFFSETTO:-0500
TZNAME:EST
DTSTART:20231105T060000
END:STANDARD
END:VTIMEZONE
BEGIN:VEVENT
DTSTART;VALUE=DATE:20220221
DTEND;VALUE=DATE:20220222
DTSTAMP:20260422T042243
CREATED:20260113T184731Z
LAST-MODIFIED:20260409T140019Z
UID:10000120-1645401600-1645487999@buenavistava.gov
SUMMARY:City Offices Closed – Presidents’ Day
DESCRIPTION:City offices are closed on Monday\, February 21\, 2022 in observance of Presidents’ Day. Residential refuse collection will be delayed by one day.
URL:https://buenavistava.gov/event/city-offices-closed-presidents-day-3/
LOCATION:VA
END:VEVENT
BEGIN:VEVENT
DTSTART;TZID=America/New_York:20220222T140000
DTEND;TZID=America/New_York:20220222T180000
DTSTAMP:20260422T042243
CREATED:20260113T184731Z
LAST-MODIFIED:20260409T140019Z
UID:10000121-1645538400-1645552800@buenavistava.gov
SUMMARY:Public Works/Public Safety Committee Meeting
DESCRIPTION:Members of the Buena Vista Public Works/Public Safety Committee will meet in the Buena Vista Police Department Meeting Room\, 306 Park Ave\, at 2:00 p.m. on Tuesday\, February 22\, 2022.
URL:https://buenavistava.gov/event/public-works-public-safety-committee-meeting-9/
LOCATION:VA
END:VEVENT
BEGIN:VEVENT
DTSTART;TZID=America/New_York:20220223T180000
DTEND;TZID=America/New_York:20220223T180000
DTSTAMP:20260422T042243
CREATED:20260113T184732Z
LAST-MODIFIED:20260409T140019Z
UID:10000122-1645639200-1645639200@buenavistava.gov
SUMMARY:Parks and Recreation Committee Meeting
DESCRIPTION:Members of the Buena Vista Parks and Recreation Committee will meet in Council Chambers\, 2039 Sycamore Avenue\, at 6:00 p.m. on Wednesday\, February 23\, 2022.
URL:https://buenavistava.gov/event/parks-and-recreation-committee-meeting-10/
LOCATION:VA
END:VEVENT
END:VCALENDAR