BEGIN:VCALENDAR
VERSION:2.0
PRODID:-//Buena Vista - ECPv6.15.20//NONSGML v1.0//EN
CALSCALE:GREGORIAN
METHOD:PUBLISH
X-WR-CALNAME:Buena Vista
X-ORIGINAL-URL:https://buenavistava.gov
X-WR-CALDESC:Events for Buena Vista
REFRESH-INTERVAL;VALUE=DURATION:PT1H
X-Robots-Tag:noindex
X-PUBLISHED-TTL:PT1H
BEGIN:VTIMEZONE
TZID:America/New_York
BEGIN:DAYLIGHT
TZOFFSETFROM:-0500
TZOFFSETTO:-0400
TZNAME:EDT
DTSTART:20200308T070000
END:DAYLIGHT
BEGIN:STANDARD
TZOFFSETFROM:-0400
TZOFFSETTO:-0500
TZNAME:EST
DTSTART:20201101T060000
END:STANDARD
BEGIN:DAYLIGHT
TZOFFSETFROM:-0500
TZOFFSETTO:-0400
TZNAME:EDT
DTSTART:20210314T070000
END:DAYLIGHT
BEGIN:STANDARD
TZOFFSETFROM:-0400
TZOFFSETTO:-0500
TZNAME:EST
DTSTART:20211107T060000
END:STANDARD
BEGIN:DAYLIGHT
TZOFFSETFROM:-0500
TZOFFSETTO:-0400
TZNAME:EDT
DTSTART:20220313T070000
END:DAYLIGHT
BEGIN:STANDARD
TZOFFSETFROM:-0400
TZOFFSETTO:-0500
TZNAME:EST
DTSTART:20221106T060000
END:STANDARD
END:VTIMEZONE
BEGIN:VEVENT
DTSTART;VALUE=DATE:20211011
DTEND;VALUE=DATE:20211012
DTSTAMP:20260422T185929
CREATED:20260113T194657Z
LAST-MODIFIED:20260409T140725Z
UID:10000141-1633910400-1633996799@buenavistava.gov
SUMMARY:City Offices Closed
DESCRIPTION:City offices will be closed on Monday\, October 11\, 2021 in observance of state holidays\, Columbus Day and Indigenous Peoples Day. \nResidential refuse collection will be delayed by one day.
URL:https://buenavistava.gov/event/city-offices-closed/
LOCATION:VA
END:VEVENT
BEGIN:VEVENT
DTSTART;TZID=America/New_York:20211013T051500
DTEND;TZID=America/New_York:20211013T180000
DTSTAMP:20260422T185929
CREATED:20260113T194858Z
LAST-MODIFIED:20260409T140726Z
UID:10000144-1634102100-1634148000@buenavistava.gov
SUMMARY:Public Recreational Facilities Authority
DESCRIPTION:The Public Recreation Authority will hold a meeting October 13\, 2021\, beginning at 5:15 in Council Chambers.\n \nAgenda Public Rec. Facility Authority – October 13th 2021
URL:https://buenavistava.gov/event/public-recreational-facilities-authority/
LOCATION:VA
END:VEVENT
BEGIN:VEVENT
DTSTART;TZID=America/New_York:20211013T180000
DTEND;TZID=America/New_York:20211013T180000
DTSTAMP:20260422T185929
CREATED:20260113T194858Z
LAST-MODIFIED:20260409T141128Z
UID:10000147-1634148000-1634148000@buenavistava.gov
SUMMARY:City Council Work Session
DESCRIPTION:City Council will hold a work session on October 13\, 2021\, beginning at 6 PM in Council Chambers to discuss the allocation of American Rescue funds.
URL:https://buenavistava.gov/event/city-council-work-session/
LOCATION:VA
END:VEVENT
END:VCALENDAR