BEGIN:VCALENDAR
VERSION:2.0
PRODID:-//Buena Vista - ECPv6.15.20//NONSGML v1.0//EN
CALSCALE:GREGORIAN
METHOD:PUBLISH
X-ORIGINAL-URL:https://buenavistava.gov
X-WR-CALDESC:Events for Buena Vista
REFRESH-INTERVAL;VALUE=DURATION:PT1H
X-Robots-Tag:noindex
X-PUBLISHED-TTL:PT1H
BEGIN:VTIMEZONE
TZID:America/New_York
BEGIN:DAYLIGHT
TZOFFSETFROM:-0500
TZOFFSETTO:-0400
TZNAME:EDT
DTSTART:20200308T070000
END:DAYLIGHT
BEGIN:STANDARD
TZOFFSETFROM:-0400
TZOFFSETTO:-0500
TZNAME:EST
DTSTART:20201101T060000
END:STANDARD
BEGIN:DAYLIGHT
TZOFFSETFROM:-0500
TZOFFSETTO:-0400
TZNAME:EDT
DTSTART:20210314T070000
END:DAYLIGHT
BEGIN:STANDARD
TZOFFSETFROM:-0400
TZOFFSETTO:-0500
TZNAME:EST
DTSTART:20211107T060000
END:STANDARD
BEGIN:DAYLIGHT
TZOFFSETFROM:-0500
TZOFFSETTO:-0400
TZNAME:EDT
DTSTART:20220313T070000
END:DAYLIGHT
BEGIN:STANDARD
TZOFFSETFROM:-0400
TZOFFSETTO:-0500
TZNAME:EST
DTSTART:20221106T060000
END:STANDARD
END:VTIMEZONE
BEGIN:VEVENT
DTSTART;TZID=America/New_York:20211009T100000
DTEND;TZID=America/New_York:20211009T160000
DTSTAMP:20260422T190012
CREATED:20260113T195059Z
LAST-MODIFIED:20260409T141128Z
UID:10000151-1633773600-1633795200@buenavistava.gov
SUMMARY:Mountain Day 2021
DESCRIPTION:Our annual downtown street festival focused on lost arts\, crafts\, and music! 10:00 AM to 4:00 PM on Magnolia Avenue between 20th St & 22nd St. \nCraft Demonstrations| Live Music & Dance | Local History | Fine Art | Local Foods | Community Organizations | Food Vendors | And More! \nVisit www.mountainday.org or Facebook Event Page for more information.
URL:https://buenavistava.gov/event/mountain-day-2021/
LOCATION:VA
END:VEVENT
END:VCALENDAR