BEGIN:VCALENDAR
VERSION:2.0
PRODID:-//Buena Vista - ECPv6.15.20//NONSGML v1.0//EN
CALSCALE:GREGORIAN
METHOD:PUBLISH
X-ORIGINAL-URL:https://buenavistava.gov
X-WR-CALDESC:Events for Buena Vista
REFRESH-INTERVAL;VALUE=DURATION:PT1H
X-Robots-Tag:noindex
X-PUBLISHED-TTL:PT1H
BEGIN:VTIMEZONE
TZID:America/New_York
BEGIN:DAYLIGHT
TZOFFSETFROM:-0500
TZOFFSETTO:-0400
TZNAME:EDT
DTSTART:20200308T070000
END:DAYLIGHT
BEGIN:STANDARD
TZOFFSETFROM:-0400
TZOFFSETTO:-0500
TZNAME:EST
DTSTART:20201101T060000
END:STANDARD
BEGIN:DAYLIGHT
TZOFFSETFROM:-0500
TZOFFSETTO:-0400
TZNAME:EDT
DTSTART:20210314T070000
END:DAYLIGHT
BEGIN:STANDARD
TZOFFSETFROM:-0400
TZOFFSETTO:-0500
TZNAME:EST
DTSTART:20211107T060000
END:STANDARD
BEGIN:DAYLIGHT
TZOFFSETFROM:-0500
TZOFFSETTO:-0400
TZNAME:EDT
DTSTART:20220313T070000
END:DAYLIGHT
BEGIN:STANDARD
TZOFFSETFROM:-0400
TZOFFSETTO:-0500
TZNAME:EST
DTSTART:20221106T060000
END:STANDARD
END:VTIMEZONE
BEGIN:VEVENT
DTSTART;TZID=America/New_York:20210803T180000
DTEND;TZID=America/New_York:20210803T210000
DTSTAMP:20260422T190045
CREATED:20260113T195501Z
LAST-MODIFIED:20260409T142140Z
UID:10000160-1628013600-1628024400@buenavistava.gov
SUMMARY:National Night Out
DESCRIPTION:Help us build a stronger\, safer community by joining us for National Night out on August 3rd from 6 PM to 9 PM!  This event is FREE to attend at Camden Field in Buena Vista.\nThere will be booths and fun-filled activities for the entire family! \nSherriff\, Police\, and Fire and Rescue demonstrations\nCOVID-19 Vaccines and information\nFood and refreshments\nLive Music by Jason Hostetter\nand MORE! \nThis is a good night to get to know your neighbors\, learn about crime preventions\, and build a better community.\n 
URL:https://buenavistava.gov/event/national-night-out/
LOCATION:VA
END:VEVENT
END:VCALENDAR