BEGIN:VCALENDAR
VERSION:2.0
PRODID:-//Buena Vista - ECPv6.15.20//NONSGML v1.0//EN
CALSCALE:GREGORIAN
METHOD:PUBLISH
X-ORIGINAL-URL:https://buenavistava.gov
X-WR-CALDESC:Events for Buena Vista
REFRESH-INTERVAL;VALUE=DURATION:PT1H
X-Robots-Tag:noindex
X-PUBLISHED-TTL:PT1H
BEGIN:VTIMEZONE
TZID:America/New_York
BEGIN:DAYLIGHT
TZOFFSETFROM:-0500
TZOFFSETTO:-0400
TZNAME:EDT
DTSTART:20200308T070000
END:DAYLIGHT
BEGIN:STANDARD
TZOFFSETFROM:-0400
TZOFFSETTO:-0500
TZNAME:EST
DTSTART:20201101T060000
END:STANDARD
BEGIN:DAYLIGHT
TZOFFSETFROM:-0500
TZOFFSETTO:-0400
TZNAME:EDT
DTSTART:20210314T070000
END:DAYLIGHT
BEGIN:STANDARD
TZOFFSETFROM:-0400
TZOFFSETTO:-0500
TZNAME:EST
DTSTART:20211107T060000
END:STANDARD
BEGIN:DAYLIGHT
TZOFFSETFROM:-0500
TZOFFSETTO:-0400
TZNAME:EDT
DTSTART:20220313T070000
END:DAYLIGHT
BEGIN:STANDARD
TZOFFSETFROM:-0400
TZOFFSETTO:-0500
TZNAME:EST
DTSTART:20221106T060000
END:STANDARD
END:VTIMEZONE
BEGIN:VEVENT
DTSTART;TZID=America/New_York:20210517T140000
DTEND;TZID=America/New_York:20210517T180000
DTSTAMP:20260422T234232
CREATED:20260113T200122Z
LAST-MODIFIED:20260409T142157Z
UID:10000173-1621260000-1621274400@buenavistava.gov
SUMMARY:Public Works/Public Safety Meeting
DESCRIPTION:There will be a Public Works/Public Safety meeting on Monday\, May 17th at 2 PM at the Pavilion below the Glen Maury Park office.
URL:https://buenavistava.gov/event/public-works-public-safety-meeting-6/
LOCATION:VA
END:VEVENT
BEGIN:VEVENT
DTSTART;TZID=America/New_York:20210517T160000
DTEND;TZID=America/New_York:20210517T180000
DTSTAMP:20260422T234232
CREATED:20260113T200107Z
LAST-MODIFIED:20260409T142157Z
UID:10000172-1621267200-1621274400@buenavistava.gov
SUMMARY:Economic Development Authority Meeting
DESCRIPTION:There will be a meeting of the Buena Vista Economic Development Authority on Monday\, May 17th at 4 pm for the purpose of electing officers. The meeting will be held virtually via Zoom\, see meeting information below. Find the agenda here: EDA Organizational Meeting Agenda – May 17th 2021\nJoin Zoom Meeting\nhttps://us02web.zoom.us/j/5528910134\nMeeting ID: 552 891 0134\nDial by your location\n+1 301 715 8592\nMeeting ID: 552 891 0134
URL:https://buenavistava.gov/event/economic-development-authority-meeting-9/
LOCATION:VA
END:VEVENT
BEGIN:VEVENT
DTSTART;TZID=America/New_York:20210519T183000
DTEND;TZID=America/New_York:20210519T183000
DTSTAMP:20260422T234232
CREATED:20260113T200122Z
LAST-MODIFIED:20260409T142209Z
UID:10000174-1621449000-1621449000@buenavistava.gov
SUMMARY:Parks and Recreation Committee Meeting
DESCRIPTION:There will be a Parks and Recreation Committee meeting on Wednesday\, May 19th at 6:30 PM at the pavilion below the Glen Maury Park office.
URL:https://buenavistava.gov/event/parks-and-recreation-committee-meeting-16/
LOCATION:VA
END:VEVENT
BEGIN:VEVENT
DTSTART;TZID=America/New_York:20210521T173000
DTEND;TZID=America/New_York:20210521T190000
DTSTAMP:20260422T234232
CREATED:20260113T200248Z
LAST-MODIFIED:20260409T142227Z
UID:10000184-1621618200-1621623600@buenavistava.gov
SUMMARY:Camping 101 at Glen Maury Park
DESCRIPTION:Join us on Friday\, May 21st at the Glen Maury Park skate rink for demonstrations on how to set up and take down tents\, build/start a fire\, tie knots\, wilderness first aid\, and more!! \nFREE to participate and open to boys and girls of all ages! \nBSA Scouts Troop 29 and Troop 92 will also be recruiting boys and girls\, 5th grade and older\, to join their troop! Join us to learn more! \nEach demonstration will be done at a separate station\, allowing for social distancing and smaller groups. All in attendance MUST wear a mask and gloves are encouraged! Hand sanitizer will be made readily available throughout the event.
URL:https://buenavistava.gov/event/camping-101-at-glen-maury-park/
LOCATION:VA
END:VEVENT
END:VCALENDAR