BEGIN:VCALENDAR
VERSION:2.0
PRODID:-//Buena Vista - ECPv6.15.20//NONSGML v1.0//EN
CALSCALE:GREGORIAN
METHOD:PUBLISH
X-ORIGINAL-URL:https://buenavistava.gov
X-WR-CALDESC:Events for Buena Vista
REFRESH-INTERVAL;VALUE=DURATION:PT1H
X-Robots-Tag:noindex
X-PUBLISHED-TTL:PT1H
BEGIN:VTIMEZONE
TZID:America/New_York
BEGIN:DAYLIGHT
TZOFFSETFROM:-0500
TZOFFSETTO:-0400
TZNAME:EDT
DTSTART:20200308T070000
END:DAYLIGHT
BEGIN:STANDARD
TZOFFSETFROM:-0400
TZOFFSETTO:-0500
TZNAME:EST
DTSTART:20201101T060000
END:STANDARD
BEGIN:DAYLIGHT
TZOFFSETFROM:-0500
TZOFFSETTO:-0400
TZNAME:EDT
DTSTART:20210314T070000
END:DAYLIGHT
BEGIN:STANDARD
TZOFFSETFROM:-0400
TZOFFSETTO:-0500
TZNAME:EST
DTSTART:20211107T060000
END:STANDARD
BEGIN:DAYLIGHT
TZOFFSETFROM:-0500
TZOFFSETTO:-0400
TZNAME:EDT
DTSTART:20220313T070000
END:DAYLIGHT
BEGIN:STANDARD
TZOFFSETFROM:-0400
TZOFFSETTO:-0500
TZNAME:EST
DTSTART:20221106T060000
END:STANDARD
END:VTIMEZONE
BEGIN:VEVENT
DTSTART;TZID=America/New_York:20210513T180000
DTEND;TZID=America/New_York:20210513T180000
DTSTAMP:20260423T023529
CREATED:20260113T200122Z
LAST-MODIFIED:20260409T142209Z
UID:10000175-1620928800-1620928800@buenavistava.gov
SUMMARY:Special Called Council Meeting for Budget Public Hearings
DESCRIPTION:There will be a Special Called Council Meeting for budget Public Hearings on Thursday\, May 13\, 2021 held virtually via Zoom.\nFind the Agenda here: Council Agenda – Special Meeting\, Budget Public Hearings – May 13th 2021\nTo Join the Zoom Meeting click the link below and enter the Meeting ID:\nhttps://us02web.zoom.us/j/5528910134\nOr Dial In:\n+1 646 558 8656 \nMeeting ID: 552 891 0134
URL:https://buenavistava.gov/event/special-called-council-meeting-for-budget-public-hearings/
LOCATION:VA
END:VEVENT
END:VCALENDAR