BEGIN:VCALENDAR
VERSION:2.0
PRODID:-//Buena Vista - ECPv6.15.20//NONSGML v1.0//EN
CALSCALE:GREGORIAN
METHOD:PUBLISH
X-ORIGINAL-URL:https://buenavistava.gov
X-WR-CALDESC:Events for Buena Vista
REFRESH-INTERVAL;VALUE=DURATION:PT1H
X-Robots-Tag:noindex
X-PUBLISHED-TTL:PT1H
BEGIN:VTIMEZONE
TZID:America/New_York
BEGIN:DAYLIGHT
TZOFFSETFROM:-0500
TZOFFSETTO:-0400
TZNAME:EDT
DTSTART:20200308T070000
END:DAYLIGHT
BEGIN:STANDARD
TZOFFSETFROM:-0400
TZOFFSETTO:-0500
TZNAME:EST
DTSTART:20201101T060000
END:STANDARD
BEGIN:DAYLIGHT
TZOFFSETFROM:-0500
TZOFFSETTO:-0400
TZNAME:EDT
DTSTART:20210314T070000
END:DAYLIGHT
BEGIN:STANDARD
TZOFFSETFROM:-0400
TZOFFSETTO:-0500
TZNAME:EST
DTSTART:20211107T060000
END:STANDARD
BEGIN:DAYLIGHT
TZOFFSETFROM:-0500
TZOFFSETTO:-0400
TZNAME:EDT
DTSTART:20220313T070000
END:DAYLIGHT
BEGIN:STANDARD
TZOFFSETFROM:-0400
TZOFFSETTO:-0500
TZNAME:EST
DTSTART:20221106T060000
END:STANDARD
END:VTIMEZONE
BEGIN:VEVENT
DTSTART;TZID=America/New_York:20210309T173000
DTEND;TZID=America/New_York:20210309T183000
DTSTAMP:20260423T023627
CREATED:20260113T200248Z
LAST-MODIFIED:20260409T142227Z
UID:10000187-1615311000-1615314600@buenavistava.gov
SUMMARY:Finance Committee Meeting
DESCRIPTION:There will be a Finance Committee Meeting on March 9\, 2021 at 5:30 PM in Council Chambers\nContact Dawn Wheeler\, dwheeler@bvcity.org\, with any questions.
URL:https://buenavistava.gov/event/finance-committee-meeting-2/
LOCATION:VA
END:VEVENT
BEGIN:VEVENT
DTSTART;TZID=America/New_York:20210311T160000
DTEND;TZID=America/New_York:20210311T170000
DTSTAMP:20260423T023627
CREATED:20260113T200303Z
LAST-MODIFIED:20260409T142258Z
UID:10000190-1615478400-1615482000@buenavistava.gov
SUMMARY:Economic Development Authority Meeting
DESCRIPTION:We will have an Economic Development Authority meeting on March 11th 2021 at 4 pm via Zoom to discuss a Façade Improvement Grant application for LKH Enterprises at 227 W. 21st Street. See meeting packet attached.\nJoin Zoom Meetinghttps://us02web.zoom.us/j/5528910134Meeting ID: 552 891 0134Dial by your location 1 301 715 8592Meeting ID: 552 891 0134\nEDA-MEETING-PACKET-03.11.21Download
URL:https://buenavistava.gov/event/economic-development-authority-meeting-10/
LOCATION:VA
END:VEVENT
END:VCALENDAR