BEGIN:VCALENDAR
VERSION:2.0
PRODID:-//Buena Vista - ECPv6.15.20//NONSGML v1.0//EN
CALSCALE:GREGORIAN
METHOD:PUBLISH
X-ORIGINAL-URL:https://buenavistava.gov
X-WR-CALDESC:Events for Buena Vista
REFRESH-INTERVAL;VALUE=DURATION:PT1H
X-Robots-Tag:noindex
X-PUBLISHED-TTL:PT1H
BEGIN:VTIMEZONE
TZID:America/New_York
BEGIN:DAYLIGHT
TZOFFSETFROM:-0500
TZOFFSETTO:-0400
TZNAME:EDT
DTSTART:20200308T070000
END:DAYLIGHT
BEGIN:STANDARD
TZOFFSETFROM:-0400
TZOFFSETTO:-0500
TZNAME:EST
DTSTART:20201101T060000
END:STANDARD
BEGIN:DAYLIGHT
TZOFFSETFROM:-0500
TZOFFSETTO:-0400
TZNAME:EDT
DTSTART:20210314T070000
END:DAYLIGHT
BEGIN:STANDARD
TZOFFSETFROM:-0400
TZOFFSETTO:-0500
TZNAME:EST
DTSTART:20211107T060000
END:STANDARD
BEGIN:DAYLIGHT
TZOFFSETFROM:-0500
TZOFFSETTO:-0400
TZNAME:EDT
DTSTART:20220313T070000
END:DAYLIGHT
BEGIN:STANDARD
TZOFFSETFROM:-0400
TZOFFSETTO:-0500
TZNAME:EST
DTSTART:20221106T060000
END:STANDARD
END:VTIMEZONE
BEGIN:VEVENT
DTSTART;TZID=America/New_York:20210112T170000
DTEND;TZID=America/New_York:20210112T180000
DTSTAMP:20260423T052012
CREATED:20260113T200304Z
LAST-MODIFIED:20260409T142258Z
UID:10000191-1610470800-1610474400@buenavistava.gov
SUMMARY:Special Called Council Meeting & Executive Session
DESCRIPTION:There will be a special called City Council meeting and Executive Session on January 12th 2020 at 6 p.m. via Zoom. Meeting information and agenda below.\nTo Join the Zoom Meeting click the link below and enter the Meeting ID:\nhttps://us02web.zoom.us/j/5528910134\nOr Dial In:\n        +1 646 558 8656 \nMeeting ID: 552 891 0134\nInstructions for First Time Zoom Users\nSpecial Council Meeting & Executive Session Agenda – January 12th 2021Download
URL:https://buenavistava.gov/event/special-called-council-meeting-executive-session/
LOCATION:VA
END:VEVENT
BEGIN:VEVENT
DTSTART;TZID=America/New_York:20210113T183000
DTEND;TZID=America/New_York:20210113T193000
DTSTAMP:20260423T052012
CREATED:20260113T200304Z
LAST-MODIFIED:20260409T142258Z
UID:10000192-1610562600-1610566200@buenavistava.gov
SUMMARY:Parks & Recreation Committee Meeting
DESCRIPTION:There will be a Parks & Recreation Committee meeting on Wednesday\, January 13\, 2021 at 6:30 pm in Council Chambers.
URL:https://buenavistava.gov/event/parks-recreation-committee-meeting-3/
LOCATION:VA
END:VEVENT
END:VCALENDAR