BEGIN:VCALENDAR
VERSION:2.0
PRODID:-//Buena Vista - ECPv6.15.20//NONSGML v1.0//EN
CALSCALE:GREGORIAN
METHOD:PUBLISH
X-ORIGINAL-URL:https://buenavistava.gov
X-WR-CALDESC:Events for Buena Vista
REFRESH-INTERVAL;VALUE=DURATION:PT1H
X-Robots-Tag:noindex
X-PUBLISHED-TTL:PT1H
BEGIN:VTIMEZONE
TZID:America/New_York
BEGIN:DAYLIGHT
TZOFFSETFROM:-0500
TZOFFSETTO:-0400
TZNAME:EDT
DTSTART:20190310T070000
END:DAYLIGHT
BEGIN:STANDARD
TZOFFSETFROM:-0400
TZOFFSETTO:-0500
TZNAME:EST
DTSTART:20191103T060000
END:STANDARD
BEGIN:DAYLIGHT
TZOFFSETFROM:-0500
TZOFFSETTO:-0400
TZNAME:EDT
DTSTART:20200308T070000
END:DAYLIGHT
BEGIN:STANDARD
TZOFFSETFROM:-0400
TZOFFSETTO:-0500
TZNAME:EST
DTSTART:20201101T060000
END:STANDARD
BEGIN:DAYLIGHT
TZOFFSETFROM:-0500
TZOFFSETTO:-0400
TZNAME:EDT
DTSTART:20210314T070000
END:DAYLIGHT
BEGIN:STANDARD
TZOFFSETFROM:-0400
TZOFFSETTO:-0500
TZNAME:EST
DTSTART:20211107T060000
END:STANDARD
END:VTIMEZONE
BEGIN:VEVENT
DTSTART;TZID=America/New_York:20201010T100000
DTEND;TZID=America/New_York:20201010T150000
DTSTAMP:20260423T152206
CREATED:20260113T200535Z
LAST-MODIFIED:20260409T142902Z
UID:10000205-1602324000-1602342000@buenavistava.gov
SUMMARY:Mountain Day
DESCRIPTION:Join us for our annual downtown street festival focused on lost arts\, crafts\, and music! 10:00 AM to 3:00 PM on Magnolia Avenue between 20th St & 22nd St. \nFollow the event on Facebook for updates and additional information and visit www.mountainday.org for vendor applications and more! \nCraft Demonstrations| Live Music & Dance | Local History | Fine Art | Local Foods | Community Organizations | Children’s Activities | Food Vendors | And More! \n 
URL:https://buenavistava.gov/event/mountain-day-2/
LOCATION:VA
END:VEVENT
END:VCALENDAR