BEGIN:VCALENDAR
VERSION:2.0
PRODID:-//Buena Vista - ECPv6.15.20//NONSGML v1.0//EN
CALSCALE:GREGORIAN
METHOD:PUBLISH
X-ORIGINAL-URL:https://buenavistava.gov
X-WR-CALDESC:Events for Buena Vista
REFRESH-INTERVAL;VALUE=DURATION:PT1H
X-Robots-Tag:noindex
X-PUBLISHED-TTL:PT1H
BEGIN:VTIMEZONE
TZID:America/New_York
BEGIN:DAYLIGHT
TZOFFSETFROM:-0500
TZOFFSETTO:-0400
TZNAME:EDT
DTSTART:20190310T070000
END:DAYLIGHT
BEGIN:STANDARD
TZOFFSETFROM:-0400
TZOFFSETTO:-0500
TZNAME:EST
DTSTART:20191103T060000
END:STANDARD
BEGIN:DAYLIGHT
TZOFFSETFROM:-0500
TZOFFSETTO:-0400
TZNAME:EDT
DTSTART:20200308T070000
END:DAYLIGHT
BEGIN:STANDARD
TZOFFSETFROM:-0400
TZOFFSETTO:-0500
TZNAME:EST
DTSTART:20201101T060000
END:STANDARD
BEGIN:DAYLIGHT
TZOFFSETFROM:-0500
TZOFFSETTO:-0400
TZNAME:EDT
DTSTART:20210314T070000
END:DAYLIGHT
BEGIN:STANDARD
TZOFFSETFROM:-0400
TZOFFSETTO:-0500
TZNAME:EST
DTSTART:20211107T060000
END:STANDARD
END:VTIMEZONE
BEGIN:VEVENT
DTSTART;TZID=America/New_York:20200930T170000
DTEND;TZID=America/New_York:20200930T180000
DTSTAMP:20260423T135922
CREATED:20260113T200535Z
LAST-MODIFIED:20260409T142902Z
UID:10000206-1601485200-1601488800@buenavistava.gov
SUMMARY:Economic Development Authority Meeting
DESCRIPTION:Stay Tuned for more info & meeting packet
URL:https://buenavistava.gov/event/economic-development-authority-meeting-11/
LOCATION:VA
END:VEVENT
BEGIN:VEVENT
DTSTART;TZID=America/New_York:20201002T160000
DTEND;TZID=America/New_York:20201002T180000
DTSTAMP:20260423T135922
CREATED:20260113T200535Z
LAST-MODIFIED:20260409T142901Z
UID:10000204-1601654400-1601661600@buenavistava.gov
SUMMARY:Trail Run/Family Fun Run – GMP Outdoors
DESCRIPTION:Join us for a Trail Run & Family Fun Run! \nOn October 2nd\, we will be hosting both a Trail Run and a Fun Run (walk or run) to kick off our Glen Maury Outdoor Series to bring awareness to the opportunities available for the whole community to participate in! So come out and get your exercise in while exploring Glen Maury\, but don’t worry\, we will be taking additional measures to ensure your safety during the pandemic. \nThe runs will feature staggered start times to prevent the large gathering of people at the beginning and end\, as well as requiring masks to be worn when not running. \nOpen to runners/walkers of all ages and abilities. Be advised that the trail run will have a higher difficulty level. \nThe runs will be FREE to all participants and will have food available for purchase at the end! \nRegister today at www.buenavistava.org/gmp-run-registration/ \nStay tuned for additional updates and announcements!
URL:https://buenavistava.gov/event/trail-run-family-fun-run-gmp-outdoors/
LOCATION:VA
END:VEVENT
END:VCALENDAR