BEGIN:VCALENDAR
VERSION:2.0
PRODID:-//Buena Vista - ECPv6.15.20//NONSGML v1.0//EN
CALSCALE:GREGORIAN
METHOD:PUBLISH
X-WR-CALNAME:Buena Vista
X-ORIGINAL-URL:https://buenavistava.gov
X-WR-CALDESC:Events for Buena Vista
REFRESH-INTERVAL;VALUE=DURATION:PT1H
X-Robots-Tag:noindex
X-PUBLISHED-TTL:PT1H
BEGIN:VTIMEZONE
TZID:America/New_York
BEGIN:DAYLIGHT
TZOFFSETFROM:-0500
TZOFFSETTO:-0400
TZNAME:EDT
DTSTART:20190310T070000
END:DAYLIGHT
BEGIN:STANDARD
TZOFFSETFROM:-0400
TZOFFSETTO:-0500
TZNAME:EST
DTSTART:20191103T060000
END:STANDARD
BEGIN:DAYLIGHT
TZOFFSETFROM:-0500
TZOFFSETTO:-0400
TZNAME:EDT
DTSTART:20200308T070000
END:DAYLIGHT
BEGIN:STANDARD
TZOFFSETFROM:-0400
TZOFFSETTO:-0500
TZNAME:EST
DTSTART:20201101T060000
END:STANDARD
BEGIN:DAYLIGHT
TZOFFSETFROM:-0500
TZOFFSETTO:-0400
TZNAME:EDT
DTSTART:20210314T070000
END:DAYLIGHT
BEGIN:STANDARD
TZOFFSETFROM:-0400
TZOFFSETTO:-0500
TZNAME:EST
DTSTART:20211107T060000
END:STANDARD
END:VTIMEZONE
BEGIN:VEVENT
DTSTART;TZID=America/New_York:20200902T170000
DTEND;TZID=America/New_York:20200902T180000
DTSTAMP:20260423T123125
CREATED:20260113T200736Z
LAST-MODIFIED:20260409T142902Z
UID:10000208-1599066000-1599069600@buenavistava.gov
SUMMARY:Economic Development Authority Meeting
DESCRIPTION:There will be a virtual Economic Development Authority meeting held on September 2\, 2020 at 5 PM. See below for meeting information\nJoin Zoom Meetinghttps://us02web.zoom.us/j/5528910134\nMeeting ID: 552 891 0134\nDial by your location1 646 558 8656Meeting ID: 552 891 0134
URL:https://buenavistava.gov/event/economic-development-authority-meeting-12/
LOCATION:VA
END:VEVENT
BEGIN:VEVENT
DTSTART;TZID=America/New_York:20200905T210000
DTEND;TZID=America/New_York:20200907T213000
DTSTAMP:20260423T123125
CREATED:20260113T200736Z
LAST-MODIFIED:20260409T143102Z
UID:10000209-1599339600-1599514200@buenavistava.gov
SUMMARY:Labor Day Fireworks
DESCRIPTION:Join us in Buena Vista for a fantastic fireworks display to kick off the election season! Fireworks can be seen from just about anywhere in town\, but if you want to best view park at Camden Field\, Vista Links Golf Course\, or Food Lion! Stay tuned as we scope out new locations to view from!\n \n 
URL:https://buenavistava.gov/event/labor-day-fireworks/
LOCATION:VA
END:VEVENT
END:VCALENDAR