BEGIN:VCALENDAR
VERSION:2.0
PRODID:-//Buena Vista - ECPv6.15.20//NONSGML v1.0//EN
CALSCALE:GREGORIAN
METHOD:PUBLISH
X-WR-CALNAME:Buena Vista
X-ORIGINAL-URL:https://buenavistava.gov
X-WR-CALDESC:Events for Buena Vista
REFRESH-INTERVAL;VALUE=DURATION:PT1H
X-Robots-Tag:noindex
X-PUBLISHED-TTL:PT1H
BEGIN:VTIMEZONE
TZID:America/New_York
BEGIN:DAYLIGHT
TZOFFSETFROM:-0500
TZOFFSETTO:-0400
TZNAME:EDT
DTSTART:20190310T070000
END:DAYLIGHT
BEGIN:STANDARD
TZOFFSETFROM:-0400
TZOFFSETTO:-0500
TZNAME:EST
DTSTART:20191103T060000
END:STANDARD
BEGIN:DAYLIGHT
TZOFFSETFROM:-0500
TZOFFSETTO:-0400
TZNAME:EDT
DTSTART:20200308T070000
END:DAYLIGHT
BEGIN:STANDARD
TZOFFSETFROM:-0400
TZOFFSETTO:-0500
TZNAME:EST
DTSTART:20201101T060000
END:STANDARD
BEGIN:DAYLIGHT
TZOFFSETFROM:-0500
TZOFFSETTO:-0400
TZNAME:EDT
DTSTART:20210314T070000
END:DAYLIGHT
BEGIN:STANDARD
TZOFFSETFROM:-0400
TZOFFSETTO:-0500
TZNAME:EST
DTSTART:20211107T060000
END:STANDARD
END:VTIMEZONE
BEGIN:VEVENT
DTSTART;TZID=America/New_York:20200724T183000
DTEND;TZID=America/New_York:20200724T210000
DTSTAMP:20260423T152111
CREATED:20260113T200937Z
LAST-MODIFIED:20260409T143103Z
UID:10000213-1595615400-1595624400@buenavistava.gov
SUMMARY:CANCELLED – Beach Music Friday ft. The Entertainers
DESCRIPTION:Due to a rising number of COVID-19 cases\, this year’s Beach Music Festival has been cancelled.\n 
URL:https://buenavistava.gov/event/cancelled-beach-music-friday-ft-the-entertainers/
LOCATION:VA
END:VEVENT
BEGIN:VEVENT
DTSTART;VALUE=DATE:20200725
DTEND;VALUE=DATE:20200726
DTSTAMP:20260423T152111
CREATED:20260113T200737Z
LAST-MODIFIED:20260409T143103Z
UID:10000212-1595635200-1595721599@buenavistava.gov
SUMMARY:CANCELLED – Beach Music Festival
DESCRIPTION:Due to a rising number of COVID-19 cases\, this year’s Beach Music Festival has been cancelled.
URL:https://buenavistava.gov/event/cancelled-beach-music-festival/
LOCATION:VA
END:VEVENT
END:VCALENDAR