BEGIN:VCALENDAR
VERSION:2.0
PRODID:-//Buena Vista - ECPv6.15.20//NONSGML v1.0//EN
CALSCALE:GREGORIAN
METHOD:PUBLISH
X-WR-CALNAME:Buena Vista
X-ORIGINAL-URL:https://buenavistava.gov
X-WR-CALDESC:Events for Buena Vista
REFRESH-INTERVAL;VALUE=DURATION:PT1H
X-Robots-Tag:noindex
X-PUBLISHED-TTL:PT1H
BEGIN:VTIMEZONE
TZID:America/New_York
BEGIN:DAYLIGHT
TZOFFSETFROM:-0500
TZOFFSETTO:-0400
TZNAME:EDT
DTSTART:20190310T070000
END:DAYLIGHT
BEGIN:STANDARD
TZOFFSETFROM:-0400
TZOFFSETTO:-0500
TZNAME:EST
DTSTART:20191103T060000
END:STANDARD
BEGIN:DAYLIGHT
TZOFFSETFROM:-0500
TZOFFSETTO:-0400
TZNAME:EDT
DTSTART:20200308T070000
END:DAYLIGHT
BEGIN:STANDARD
TZOFFSETFROM:-0400
TZOFFSETTO:-0500
TZNAME:EST
DTSTART:20201101T060000
END:STANDARD
BEGIN:DAYLIGHT
TZOFFSETFROM:-0500
TZOFFSETTO:-0400
TZNAME:EDT
DTSTART:20210314T070000
END:DAYLIGHT
BEGIN:STANDARD
TZOFFSETFROM:-0400
TZOFFSETTO:-0500
TZNAME:EST
DTSTART:20211107T060000
END:STANDARD
END:VTIMEZONE
BEGIN:VEVENT
DTSTART;TZID=America/New_York:20200704T213000
DTEND;TZID=America/New_York:20200704T220000
DTSTAMP:20260423T164244
CREATED:20260113T200938Z
LAST-MODIFIED:20260409T143304Z
UID:10000216-1593898200-1593900000@buenavistava.gov
SUMMARY:July 4th Fireworks
DESCRIPTION:The Buena Vista Rotary Club\, Rotary Club of Lexington Lunch\, and the City of Buena Vista are proud to announce a firework display on the Fourth of July at Glen Maury Park starting at approximately 9:30PM. Holy Cow ice cream shop and Jam Dawgs hot dog pop up will be in the park until fireworks start!!\n  \nSocially Distant Fireworks Watch Party!!\nLet’s get festive! Decorate your car\, campsite\, porch\, or wherever you choose to safely watch fireworks and share with us using #BVfireworks for a chance to win 1 free night of camping at Glen Maury Park!
URL:https://buenavistava.gov/event/july-4th-fireworks/
LOCATION:VA
END:VEVENT
END:VCALENDAR