BEGIN:VCALENDAR
VERSION:2.0
PRODID:-//Buena Vista - ECPv6.15.20//NONSGML v1.0//EN
CALSCALE:GREGORIAN
METHOD:PUBLISH
X-WR-CALNAME:Buena Vista
X-ORIGINAL-URL:https://buenavistava.gov
X-WR-CALDESC:Events for Buena Vista
REFRESH-INTERVAL;VALUE=DURATION:PT1H
X-Robots-Tag:noindex
X-PUBLISHED-TTL:PT1H
BEGIN:VTIMEZONE
TZID:America/New_York
BEGIN:DAYLIGHT
TZOFFSETFROM:-0500
TZOFFSETTO:-0400
TZNAME:EDT
DTSTART:20190310T070000
END:DAYLIGHT
BEGIN:STANDARD
TZOFFSETFROM:-0400
TZOFFSETTO:-0500
TZNAME:EST
DTSTART:20191103T060000
END:STANDARD
BEGIN:DAYLIGHT
TZOFFSETFROM:-0500
TZOFFSETTO:-0400
TZNAME:EDT
DTSTART:20200308T070000
END:DAYLIGHT
BEGIN:STANDARD
TZOFFSETFROM:-0400
TZOFFSETTO:-0500
TZNAME:EST
DTSTART:20201101T060000
END:STANDARD
BEGIN:DAYLIGHT
TZOFFSETFROM:-0500
TZOFFSETTO:-0400
TZNAME:EDT
DTSTART:20210314T070000
END:DAYLIGHT
BEGIN:STANDARD
TZOFFSETFROM:-0400
TZOFFSETTO:-0500
TZNAME:EST
DTSTART:20211107T060000
END:STANDARD
END:VTIMEZONE
BEGIN:VEVENT
DTSTART;TZID=America/New_York:20200611T060000
DTEND;TZID=America/New_York:20200613T180000
DTSTAMP:20260423T164251
CREATED:20260113T201138Z
LAST-MODIFIED:20260409T143505Z
UID:10000219-1591855200-1592071200@buenavistava.gov
SUMMARY:CANCELLED – 27th Annual Maury River Fiddlers’ Convention
DESCRIPTION:We are sad to announce that due to the Governor’s Executive Order\, Maury River Fiddler’s Convention has been cancelled this year. We hope to see everyone back in 2021. Stay safe and healthy! \nStay tuned in the ‘discussion’ tab on Facebook for more info!
URL:https://buenavistava.gov/event/cancelled-27th-annual-maury-river-fiddlers-convention/
LOCATION:VA
END:VEVENT
END:VCALENDAR