BEGIN:VCALENDAR
VERSION:2.0
PRODID:-//Buena Vista - ECPv6.15.20//NONSGML v1.0//EN
CALSCALE:GREGORIAN
METHOD:PUBLISH
X-WR-CALNAME:Buena Vista
X-ORIGINAL-URL:https://buenavistava.gov
X-WR-CALDESC:Events for Buena Vista
REFRESH-INTERVAL;VALUE=DURATION:PT1H
X-Robots-Tag:noindex
X-PUBLISHED-TTL:PT1H
BEGIN:VTIMEZONE
TZID:America/New_York
BEGIN:DAYLIGHT
TZOFFSETFROM:-0500
TZOFFSETTO:-0400
TZNAME:EDT
DTSTART:20210314T070000
END:DAYLIGHT
BEGIN:STANDARD
TZOFFSETFROM:-0400
TZOFFSETTO:-0500
TZNAME:EST
DTSTART:20211107T060000
END:STANDARD
BEGIN:DAYLIGHT
TZOFFSETFROM:-0500
TZOFFSETTO:-0400
TZNAME:EDT
DTSTART:20220313T070000
END:DAYLIGHT
BEGIN:STANDARD
TZOFFSETFROM:-0400
TZOFFSETTO:-0500
TZNAME:EST
DTSTART:20221106T060000
END:STANDARD
BEGIN:DAYLIGHT
TZOFFSETFROM:-0500
TZOFFSETTO:-0400
TZNAME:EDT
DTSTART:20230312T070000
END:DAYLIGHT
BEGIN:STANDARD
TZOFFSETFROM:-0400
TZOFFSETTO:-0500
TZNAME:EST
DTSTART:20231105T060000
END:STANDARD
END:VTIMEZONE
BEGIN:VEVENT
DTSTART;TZID=America/New_York:20220502T180000
DTEND;TZID=America/New_York:20220502T180000
DTSTAMP:20260420T040759
CREATED:20260113T184530Z
LAST-MODIFIED:20260409T135957Z
UID:10000114-1651514400-1651514400@buenavistava.gov
SUMMARY:Annual Economic Development Authority Meeting
DESCRIPTION:Members of the Buena Vista Economic Development Authority will meet in Council Chambers\, 2039 Sycamore Avenue\, at 6:00 p.m. on Monday\, May 2\, 2022. Find the agenda here.\n \nFor questions\, contact Kristina Ramsey at kristina.ramsey@bvcity.org or (540) 261-8616.
URL:https://buenavistava.gov/event/annual-economic-development-authority-meeting/
END:VEVENT
BEGIN:VEVENT
DTSTART;TZID=America/New_York:20220521T120000
DTEND;TZID=America/New_York:20220521T170000
DTSTAMP:20260420T040759
CREATED:20260113T184329Z
LAST-MODIFIED:20260409T135957Z
UID:10000111-1653134400-1653152400@buenavistava.gov
SUMMARY:Five and Dime Day
DESCRIPTION:Head to Buena Vista Town Square for raffles\, a corn hole tournament\, prizes\, games\, live music by Jason Burke\, and of course\, pizza and drinks! Event will be from 12-5 pm on Saturday\, May 21.\nStop by Five and Dime to sign up for the corn hole tournament. Must be teams of two. Cornhole will start at 1 pm.\nFive and Dime Day is sponsored by Cornerstone Bank and Just Games.
URL:https://buenavistava.gov/event/five-and-dime-day/
END:VEVENT
BEGIN:VEVENT
DTSTART;TZID=America/New_York:20220524T140000
DTEND;TZID=America/New_York:20220524T180000
DTSTAMP:20260420T040759
CREATED:20260113T184330Z
LAST-MODIFIED:20260409T135957Z
UID:10000112-1653400800-1653415200@buenavistava.gov
SUMMARY:Public Works/ Public Safety Committee Meeting
DESCRIPTION:Members of the Buena Vista Public Works/Public Safety Committee will meet at Glen Maury Park at the Buddy Secrist Pavilion\, at 2:00 p.m. on Tuesday\, May 24\, 2022.
URL:https://buenavistava.gov/event/public-works-public-safety-committee-meeting-7/
END:VEVENT
BEGIN:VEVENT
DTSTART;TZID=America/New_York:20220525T183000
DTEND;TZID=America/New_York:20220525T183000
DTSTAMP:20260420T040759
CREATED:20260113T184330Z
LAST-MODIFIED:20260409T135957Z
UID:10000113-1653503400-1653503400@buenavistava.gov
SUMMARY:Parks & Recreation Committee Meeting
DESCRIPTION:Members of the Buena Vista Parks and Recreation Committee will meet at Glen Maury Park\, Buddy Secrist Pavilion\, at 6:30 p.m. on Wednesday\, March 23\, 2022.
URL:https://buenavistava.gov/event/parks-recreation-committee-meeting-2/
END:VEVENT
END:VCALENDAR