BEGIN:VCALENDAR
VERSION:2.0
PRODID:-//Buena Vista - ECPv6.15.20//NONSGML v1.0//EN
CALSCALE:GREGORIAN
METHOD:PUBLISH
X-WR-CALNAME:Buena Vista
X-ORIGINAL-URL:https://buenavistava.gov
X-WR-CALDESC:Events for Buena Vista
REFRESH-INTERVAL;VALUE=DURATION:PT1H
X-Robots-Tag:noindex
X-PUBLISHED-TTL:PT1H
BEGIN:VTIMEZONE
TZID:America/New_York
BEGIN:DAYLIGHT
TZOFFSETFROM:-0500
TZOFFSETTO:-0400
TZNAME:EDT
DTSTART:20210314T070000
END:DAYLIGHT
BEGIN:STANDARD
TZOFFSETFROM:-0400
TZOFFSETTO:-0500
TZNAME:EST
DTSTART:20211107T060000
END:STANDARD
BEGIN:DAYLIGHT
TZOFFSETFROM:-0500
TZOFFSETTO:-0400
TZNAME:EDT
DTSTART:20220313T070000
END:DAYLIGHT
BEGIN:STANDARD
TZOFFSETFROM:-0400
TZOFFSETTO:-0500
TZNAME:EST
DTSTART:20221106T060000
END:STANDARD
BEGIN:DAYLIGHT
TZOFFSETFROM:-0500
TZOFFSETTO:-0400
TZNAME:EDT
DTSTART:20230312T070000
END:DAYLIGHT
BEGIN:STANDARD
TZOFFSETFROM:-0400
TZOFFSETTO:-0500
TZNAME:EST
DTSTART:20231105T060000
END:STANDARD
END:VTIMEZONE
BEGIN:VEVENT
DTSTART;TZID=America/New_York:20220106T150000
DTEND;TZID=America/New_York:20220106T180000
DTSTAMP:20260422T060506
CREATED:20260113T185133Z
LAST-MODIFIED:20260409T140324Z
UID:10000130-1641481200-1641492000@buenavistava.gov
SUMMARY:Canceled – Public Safety Meeting
DESCRIPTION:CANCELED –  THERE WILL BE A PUBLIC SAFETY MEETING ON JANUARY 6\, 2022\, AT 3P.M. AT THE 911 BUILDING.  THIS WILL BE TO DISCUSS BUENA VISTA RESCUE SQUAD WITH ROCKBRIDGE COUNTY.
URL:https://buenavistava.gov/event/canceled-public-safety-meeting/
LOCATION:VA
END:VEVENT
BEGIN:VEVENT
DTSTART;TZID=America/New_York:20220106T180000
DTEND;TZID=America/New_York:20220106T190000
DTSTAMP:20260422T060506
CREATED:20260113T184933Z
LAST-MODIFIED:20260409T140221Z
UID:10000128-1641492000-1641495600@buenavistava.gov
SUMMARY:City Council Meeting
DESCRIPTION:FEBRUARY 17TH MEETING CANCELLED. SEE CITY NEWS FOR MORE INFORMATION.\nDECEMBER MEETINGS CANCELLED\nMembers of the Buena Vista City Council meet in Council Chambers\, 2039 Sycamore Avenue\, at 6:00 p.m. on the first and third Thursday of each month\, unless otherwise announced.\nVisit the Council Agenda & Minutes page for more information.\nFind the full meeting schedule here: CITY COUNCIL MEETINGS 2022
URL:https://buenavistava.gov/event/city-council-meeting-2/
LOCATION:VA
END:VEVENT
BEGIN:VEVENT
DTSTART;TZID=America/New_York:20220111T173000
DTEND;TZID=America/New_York:20220111T180000
DTSTAMP:20260422T060506
CREATED:20260113T185133Z
LAST-MODIFIED:20260409T140221Z
UID:10000129-1641922200-1641924000@buenavistava.gov
SUMMARY:Finance Committee Meeting
DESCRIPTION:Members of the Buena Vista Finance Committee meet in Council Chambers\, 2039 Sycamore Avenue\, at 5:30 p.m. on the 2nd Tuesday of each month\, unless otherwise announced.\nFor questions\, please call 540-261-8601\n \nThere is no Finance Committee meeting scheduled for June 14\, 2022.\nThe December Finance Committee meeting on December 13th has been canceled. 
URL:https://buenavistava.gov/event/finance-committee-meeting/
LOCATION:VA
END:VEVENT
BEGIN:VEVENT
DTSTART;TZID=America/New_York:20220111T190000
DTEND;TZID=America/New_York:20220111T190000
DTSTAMP:20260422T060506
CREATED:20260113T184933Z
LAST-MODIFIED:20260409T140221Z
UID:10000127-1641927600-1641927600@buenavistava.gov
SUMMARY:Planning Commission Meeting
DESCRIPTION:Members of the Buena Vista Planning Commission meet in Council Chambers\, 2039 Sycamore Avenue\, at 7:00 p.m. on the 2nd Tuesday of each month\, unless otherwise announced.\nVisit https://www.buenavistava.org/business/planning-zoning/ for meeting packets and information.
URL:https://buenavistava.gov/event/planning-commission-meeting-2/
LOCATION:VA
END:VEVENT
BEGIN:VEVENT
DTSTART;TZID=America/New_York:20220113T080000
DTEND;TZID=America/New_York:20220113T180000
DTSTAMP:20260422T060506
CREATED:20260113T184932Z
LAST-MODIFIED:20260409T140221Z
UID:10000126-1642060800-1642096800@buenavistava.gov
SUMMARY:City Offices Closed – MLK Jr. Day
DESCRIPTION:City of Buena Vista offices will be closed Monday\, January 17\, 2022 in observance of Martin Luther King Jr. Day.\n \nResidential refuse collection will be delayed by one day. Business collection will remain unchanged\, weather permitting.
URL:https://buenavistava.gov/event/city-offices-closed-mlk-jr-day/
LOCATION:VA
END:VEVENT
BEGIN:VEVENT
DTSTART;TZID=America/New_York:20220125T180000
DTEND;TZID=America/New_York:20220125T180000
DTSTAMP:20260422T060506
CREATED:20260113T184932Z
LAST-MODIFIED:20260409T140220Z
UID:10000125-1643133600-1643133600@buenavistava.gov
SUMMARY:Parks and Recreation Committee Meeting
DESCRIPTION:Members of the Buena Vista Parks and Recreation Committee will meet in Council Chambers\, 2039 Sycamore Avenue\, at 6:00 p.m. on Tuesday\, January 25\, 2022.\nFor questions\, please call 540-261-8601
URL:https://buenavistava.gov/event/parks-and-recreation-committee-meeting-11/
LOCATION:VA
END:VEVENT
END:VCALENDAR