BEGIN:VCALENDAR
VERSION:2.0
PRODID:-//Buena Vista - ECPv6.15.20//NONSGML v1.0//EN
CALSCALE:GREGORIAN
METHOD:PUBLISH
X-WR-CALNAME:Buena Vista
X-ORIGINAL-URL:https://buenavistava.gov
X-WR-CALDESC:Events for Buena Vista
REFRESH-INTERVAL;VALUE=DURATION:PT1H
X-Robots-Tag:noindex
X-PUBLISHED-TTL:PT1H
BEGIN:VTIMEZONE
TZID:America/New_York
BEGIN:DAYLIGHT
TZOFFSETFROM:-0500
TZOFFSETTO:-0400
TZNAME:EDT
DTSTART:20200308T070000
END:DAYLIGHT
BEGIN:STANDARD
TZOFFSETFROM:-0400
TZOFFSETTO:-0500
TZNAME:EST
DTSTART:20201101T060000
END:STANDARD
BEGIN:DAYLIGHT
TZOFFSETFROM:-0500
TZOFFSETTO:-0400
TZNAME:EDT
DTSTART:20210314T070000
END:DAYLIGHT
BEGIN:STANDARD
TZOFFSETFROM:-0400
TZOFFSETTO:-0500
TZNAME:EST
DTSTART:20211107T060000
END:STANDARD
BEGIN:DAYLIGHT
TZOFFSETFROM:-0500
TZOFFSETTO:-0400
TZNAME:EDT
DTSTART:20220313T070000
END:DAYLIGHT
BEGIN:STANDARD
TZOFFSETFROM:-0400
TZOFFSETTO:-0500
TZNAME:EST
DTSTART:20221106T060000
END:STANDARD
END:VTIMEZONE
BEGIN:VEVENT
DTSTART;VALUE=DATE:20211111
DTEND;VALUE=DATE:20211112
DTSTAMP:20260422T111404
CREATED:20260113T194642Z
LAST-MODIFIED:20260409T140525Z
UID:10000135-1636588800-1636675199@buenavistava.gov
SUMMARY:City Offices Closed – Veteran’s Day
DESCRIPTION:City offices will be closed on Thursday\, November 11th\, 2021 in observance of Veteran’s Day. Regular Thursday residential refuse collection will be delayed by one day.\nTo our nation’s heroes: We are forever grateful for your courage and dedication in protecting our nation.
URL:https://buenavistava.gov/event/city-offices-closed-veterans-day-3/
LOCATION:VA
END:VEVENT
BEGIN:VEVENT
DTSTART;VALUE=DATE:20211124
DTEND;VALUE=DATE:20211127
DTSTAMP:20260422T111404
CREATED:20260113T194642Z
LAST-MODIFIED:20260409T140324Z
UID:10000134-1637712000-1637971199@buenavistava.gov
SUMMARY:City Offices Closed for Thanksgiving
DESCRIPTION:City offices will be closed beginning Wednesday\, November 24th through Friday\, November 26th for the Thanksgiving holiday. Offices will reopen on Monday\, November 29th. \n  \nThursday refuse collection will be made on Friday. Business collection will be as usual. \n  \nWe hope everyone has a safe and happy Thanksgiving!
URL:https://buenavistava.gov/event/city-offices-closed-for-thanksgiving/
LOCATION:VA
END:VEVENT
END:VCALENDAR