BEGIN:VCALENDAR
VERSION:2.0
PRODID:-//Buena Vista - ECPv6.15.20//NONSGML v1.0//EN
CALSCALE:GREGORIAN
METHOD:PUBLISH
X-WR-CALNAME:Buena Vista
X-ORIGINAL-URL:https://buenavistava.gov
X-WR-CALDESC:Events for Buena Vista
REFRESH-INTERVAL;VALUE=DURATION:PT1H
X-Robots-Tag:noindex
X-PUBLISHED-TTL:PT1H
BEGIN:VTIMEZONE
TZID:America/New_York
BEGIN:DAYLIGHT
TZOFFSETFROM:-0500
TZOFFSETTO:-0400
TZNAME:EDT
DTSTART:20200308T070000
END:DAYLIGHT
BEGIN:STANDARD
TZOFFSETFROM:-0400
TZOFFSETTO:-0500
TZNAME:EST
DTSTART:20201101T060000
END:STANDARD
BEGIN:DAYLIGHT
TZOFFSETFROM:-0500
TZOFFSETTO:-0400
TZNAME:EDT
DTSTART:20210314T070000
END:DAYLIGHT
BEGIN:STANDARD
TZOFFSETFROM:-0400
TZOFFSETTO:-0500
TZNAME:EST
DTSTART:20211107T060000
END:STANDARD
BEGIN:DAYLIGHT
TZOFFSETFROM:-0500
TZOFFSETTO:-0400
TZNAME:EDT
DTSTART:20220313T070000
END:DAYLIGHT
BEGIN:STANDARD
TZOFFSETFROM:-0400
TZOFFSETTO:-0500
TZNAME:EST
DTSTART:20221106T060000
END:STANDARD
END:VTIMEZONE
BEGIN:VEVENT
DTSTART;TZID=America/New_York:20210704T190000
DTEND;TZID=America/New_York:20210704T230000
DTSTAMP:20260422T172543
CREATED:20260113T195702Z
LAST-MODIFIED:20260409T142145Z
UID:10000164-1625425200-1625439600@buenavistava.gov
SUMMARY:Fourth of July Concert & Fireworks
DESCRIPTION:The July 4th Celebration sponsored by Virginia Safari Park will take place at Glen Maury Park in Buena Vista.\nA Concert/Dance featuring the Dundies begins at 7:00 PM and ends at 11:00 PM\, with a pause for the fireworks\, at the Grand Stage Pavilion by the Caboose. Tickets are $5 at the gate\, kids 16 and under are Free. The full concession and beverage stations will operate all night.\nThe Fireworks will begin at dark (9:30 PM) and Master Displays of Roanoke will produce the fireworks this year. This year’s show will be bigger and better than ever before with a variety of fireworks that have never been displayed in Rockbridge County. Fireworks can be seen up to 6 miles away\, but are best viewed at Vista Links Golf Course\, Camden Field\, and Glen Maury Park. Free program.\nThe Annual Fireworks Celebration brought to you by the Virginia Safari Park and the City of Buena Vista in partnership with the Rotary Club Lexington Lunch and the Buena Vista Rotary Club.
URL:https://buenavistava.gov/event/fourth-of-july-concert-fireworks/
LOCATION:VA
END:VEVENT
BEGIN:VEVENT
DTSTART;VALUE=DATE:20210705
DTEND;VALUE=DATE:20210706
DTSTAMP:20260422T172543
CREATED:20260113T195702Z
LAST-MODIFIED:20260409T142140Z
UID:10000163-1625443200-1625529599@buenavistava.gov
SUMMARY:City Offices Closed for Independence Day Holiday
DESCRIPTION:City offices will be closed Monday\, July 5\, 2021\, in observance of Independence Day.\n \nResidential refuse collection will be delayed by one day.
URL:https://buenavistava.gov/event/city-offices-closed-for-independence-day-holiday/
LOCATION:VA
END:VEVENT
BEGIN:VEVENT
DTSTART;TZID=America/New_York:20210720T140000
DTEND;TZID=America/New_York:20210720T180000
DTSTAMP:20260422T172543
CREATED:20260113T195501Z
LAST-MODIFIED:20260409T142140Z
UID:10000161-1626789600-1626804000@buenavistava.gov
SUMMARY:July Public Works/Public Safety Committee Meeting
DESCRIPTION:THERE WILL BE A MEETING OF THE PUBLIC WORKS/PUBLIC SAFETY COMMITTEE ON TUESDAY\, JULY 20THT BEGINNING AT 2:00 P.M. UNDER THE SHELTER IN FRONT OF THE OFFICE AT G.M.P.
URL:https://buenavistava.gov/event/july-public-works-public-safety-committee-meeting/
LOCATION:VA
END:VEVENT
BEGIN:VEVENT
DTSTART;TZID=America/New_York:20210721T183000
DTEND;TZID=America/New_York:20210721T183000
DTSTAMP:20260422T172543
CREATED:20260113T195501Z
LAST-MODIFIED:20260409T142140Z
UID:10000162-1626892200-1626892200@buenavistava.gov
SUMMARY:July Parks and Recreation Committee Meeting
DESCRIPTION:THERE WILL BE A MEETING OF THE PARKS AND RECREATION COMMITTEE ON WEDNESDAY\, JULY 21ST BEGINNING AT 6:30 P.M. UNDER THE SHELTER IN FRONT OF THE OFFICE AT G.M.P.
URL:https://buenavistava.gov/event/july-parks-and-recreation-committee-meeting/
LOCATION:VA
END:VEVENT
BEGIN:VEVENT
DTSTART;TZID=America/New_York:20210723T183000
DTEND;TZID=America/New_York:20210723T210000
DTSTAMP:20260422T172543
CREATED:20260113T200233Z
LAST-MODIFIED:20260409T142221Z
UID:10000179-1627065000-1627074000@buenavistava.gov
SUMMARY:Friday’s in the Park feat. Party Crashers
DESCRIPTION:Join us for our THIRD Fridays in the Park of 2021\, featuring Party Crashers!\nAdmission is $5 – concessions and beverages available for sale. Cash only!
URL:https://buenavistava.gov/event/fridays-in-the-park-feat-party-crashers/
LOCATION:VA
END:VEVENT
BEGIN:VEVENT
DTSTART;TZID=America/New_York:20210730T183000
DTEND;TZID=America/New_York:20210730T210000
DTSTAMP:20260422T172543
CREATED:20260113T200233Z
LAST-MODIFIED:20260409T142209Z
UID:10000178-1627669800-1627678800@buenavistava.gov
SUMMARY:Beach Music Friday feat. The Entertainers
DESCRIPTION:Join us Friday\, July 30th for Beach Music Friday. Help us kick off our Beach Music Festival with The Entertainers Band\n$7 admission\, cash only
URL:https://buenavistava.gov/event/beach-music-friday-feat-the-entertainers/
LOCATION:VA
END:VEVENT
END:VCALENDAR