BEGIN:VCALENDAR
VERSION:2.0
PRODID:-//Buena Vista - ECPv6.15.20//NONSGML v1.0//EN
CALSCALE:GREGORIAN
METHOD:PUBLISH
X-WR-CALNAME:Buena Vista
X-ORIGINAL-URL:https://buenavistava.gov
X-WR-CALDESC:Events for Buena Vista
REFRESH-INTERVAL;VALUE=DURATION:PT1H
X-Robots-Tag:noindex
X-PUBLISHED-TTL:PT1H
BEGIN:VTIMEZONE
TZID:America/New_York
BEGIN:DAYLIGHT
TZOFFSETFROM:-0500
TZOFFSETTO:-0400
TZNAME:EDT
DTSTART:20190310T070000
END:DAYLIGHT
BEGIN:STANDARD
TZOFFSETFROM:-0400
TZOFFSETTO:-0500
TZNAME:EST
DTSTART:20191103T060000
END:STANDARD
BEGIN:DAYLIGHT
TZOFFSETFROM:-0500
TZOFFSETTO:-0400
TZNAME:EDT
DTSTART:20200308T070000
END:DAYLIGHT
BEGIN:STANDARD
TZOFFSETFROM:-0400
TZOFFSETTO:-0500
TZNAME:EST
DTSTART:20201101T060000
END:STANDARD
BEGIN:DAYLIGHT
TZOFFSETFROM:-0500
TZOFFSETTO:-0400
TZNAME:EDT
DTSTART:20210314T070000
END:DAYLIGHT
BEGIN:STANDARD
TZOFFSETFROM:-0400
TZOFFSETTO:-0500
TZNAME:EST
DTSTART:20211107T060000
END:STANDARD
END:VTIMEZONE
BEGIN:VEVENT
DTSTART;TZID=America/New_York:20200807T183000
DTEND;TZID=America/New_York:20200807T210000
DTSTAMP:20260423T110034
CREATED:20260113T200736Z
LAST-MODIFIED:20260409T143102Z
UID:10000211-1596825000-1596834000@buenavistava.gov
SUMMARY:CANCELLED – Fridays in the Park ft. 7 Mile Ford
DESCRIPTION:Friday’s in the Park is hosted by the City of Buena Vista and the Buena Vista Rotary Club. Join us for music\, dancing\, food\, and beverages!\n \nStay tuned in the Facebook event discussion tab for info\, updates\, and more
URL:https://buenavistava.gov/event/cancelled-fridays-in-the-park-ft-7-mile-ford/
LOCATION:VA
END:VEVENT
BEGIN:VEVENT
DTSTART;VALUE=DATE:20200822
DTEND;VALUE=DATE:20200824
DTSTAMP:20260423T110034
CREATED:20260113T200736Z
LAST-MODIFIED:20260409T143102Z
UID:10000210-1598054400-1598227199@buenavistava.gov
SUMMARY:Chris Wheeler Tournament
DESCRIPTION:Save the Date! The Chris Wheeler tournament is an annual softball tournament hosted by teams in Buena Vista in memory of Chris Wheeler. Join them for a fun filled weekend!
URL:https://buenavistava.gov/event/chris-wheeler-tournament/
LOCATION:VA
END:VEVENT
END:VCALENDAR