BEGIN:VCALENDAR
VERSION:2.0
PRODID:-//Buena Vista - ECPv6.15.20//NONSGML v1.0//EN
CALSCALE:GREGORIAN
METHOD:PUBLISH
X-ORIGINAL-URL:https://buenavistava.gov
X-WR-CALDESC:Events for Buena Vista
REFRESH-INTERVAL;VALUE=DURATION:PT1H
X-Robots-Tag:noindex
X-PUBLISHED-TTL:PT1H
BEGIN:VTIMEZONE
TZID:America/New_York
BEGIN:DAYLIGHT
TZOFFSETFROM:-0500
TZOFFSETTO:-0400
TZNAME:EDT
DTSTART:20210314T070000
END:DAYLIGHT
BEGIN:STANDARD
TZOFFSETFROM:-0400
TZOFFSETTO:-0500
TZNAME:EST
DTSTART:20211107T060000
END:STANDARD
BEGIN:DAYLIGHT
TZOFFSETFROM:-0500
TZOFFSETTO:-0400
TZNAME:EDT
DTSTART:20220313T070000
END:DAYLIGHT
BEGIN:STANDARD
TZOFFSETFROM:-0400
TZOFFSETTO:-0500
TZNAME:EST
DTSTART:20221106T060000
END:STANDARD
BEGIN:DAYLIGHT
TZOFFSETFROM:-0500
TZOFFSETTO:-0400
TZNAME:EDT
DTSTART:20230312T070000
END:DAYLIGHT
BEGIN:STANDARD
TZOFFSETFROM:-0400
TZOFFSETTO:-0500
TZNAME:EST
DTSTART:20231105T060000
END:STANDARD
END:VTIMEZONE
BEGIN:VEVENT
DTSTART;TZID=America/New_York:20220125T180000
DTEND;TZID=America/New_York:20220125T180000
DTSTAMP:20260422T074820
CREATED:20260113T184932Z
LAST-MODIFIED:20260409T140220Z
UID:10000125-1643133600-1643133600@buenavistava.gov
SUMMARY:Parks and Recreation Committee Meeting
DESCRIPTION:Members of the Buena Vista Parks and Recreation Committee will meet in Council Chambers\, 2039 Sycamore Avenue\, at 6:00 p.m. on Tuesday\, January 25\, 2022.\nFor questions\, please call 540-261-8601
URL:https://buenavistava.gov/event/parks-and-recreation-committee-meeting-11/
LOCATION:VA
END:VEVENT
END:VCALENDAR