BEGIN:VCALENDAR
VERSION:2.0
PRODID:-//Buena Vista - ECPv6.15.20//NONSGML v1.0//EN
CALSCALE:GREGORIAN
METHOD:PUBLISH
X-WR-CALNAME:Buena Vista
X-ORIGINAL-URL:https://buenavistava.gov
X-WR-CALDESC:Events for Buena Vista
REFRESH-INTERVAL;VALUE=DURATION:PT1H
X-Robots-Tag:noindex
X-PUBLISHED-TTL:PT1H
BEGIN:VTIMEZONE
TZID:America/New_York
BEGIN:DAYLIGHT
TZOFFSETFROM:-0500
TZOFFSETTO:-0400
TZNAME:EDT
DTSTART:20200308T070000
END:DAYLIGHT
BEGIN:STANDARD
TZOFFSETFROM:-0400
TZOFFSETTO:-0500
TZNAME:EST
DTSTART:20201101T060000
END:STANDARD
BEGIN:DAYLIGHT
TZOFFSETFROM:-0500
TZOFFSETTO:-0400
TZNAME:EDT
DTSTART:20210314T070000
END:DAYLIGHT
BEGIN:STANDARD
TZOFFSETFROM:-0400
TZOFFSETTO:-0500
TZNAME:EST
DTSTART:20211107T060000
END:STANDARD
BEGIN:DAYLIGHT
TZOFFSETFROM:-0500
TZOFFSETTO:-0400
TZNAME:EDT
DTSTART:20220313T070000
END:DAYLIGHT
BEGIN:STANDARD
TZOFFSETFROM:-0400
TZOFFSETTO:-0500
TZNAME:EST
DTSTART:20221106T060000
END:STANDARD
END:VTIMEZONE
BEGIN:VEVENT
DTSTART;TZID=America/New_York:20211202T190000
DTEND;TZID=America/New_York:20211202T190000
DTSTAMP:20260422T092841
CREATED:20260113T194642Z
LAST-MODIFIED:20260409T140525Z
UID:10000137-1638471600-1638471600@buenavistava.gov
SUMMARY:2021 Christmas Parade: A Family Christmas
DESCRIPTION:🚨 Join us in Downtown BV for our annual Christmas Parade\n🎄The parade starts at 23rd Street of Magnolia at 7:00PM.\n🎅 The parade ends at 17th Street of Magnolia.\n👨‍👩‍👧‍👦 This year’s theme is “A Family Christmas”\n🚗🚶‍Interested in being in the parade? Fill out the form here: www.buenavistava.org/parade OR call the park office 5402617321!\n \nPlease note – this is a normal moving parade\, not a stationary or “reverse” parade.
URL:https://buenavistava.gov/event/2021-christmas-parade-a-family-christmas/
LOCATION:VA
END:VEVENT
END:VCALENDAR