BEGIN:VCALENDAR
VERSION:2.0
PRODID:-//Buena Vista - ECPv6.15.20//NONSGML v1.0//EN
CALSCALE:GREGORIAN
METHOD:PUBLISH
X-WR-CALNAME:Buena Vista
X-ORIGINAL-URL:https://buenavistava.gov
X-WR-CALDESC:Events for Buena Vista
REFRESH-INTERVAL;VALUE=DURATION:PT1H
X-Robots-Tag:noindex
X-PUBLISHED-TTL:PT1H
BEGIN:VTIMEZONE
TZID:America/New_York
BEGIN:DAYLIGHT
TZOFFSETFROM:-0500
TZOFFSETTO:-0400
TZNAME:EDT
DTSTART:20200308T070000
END:DAYLIGHT
BEGIN:STANDARD
TZOFFSETFROM:-0400
TZOFFSETTO:-0500
TZNAME:EST
DTSTART:20201101T060000
END:STANDARD
BEGIN:DAYLIGHT
TZOFFSETFROM:-0500
TZOFFSETTO:-0400
TZNAME:EDT
DTSTART:20210314T070000
END:DAYLIGHT
BEGIN:STANDARD
TZOFFSETFROM:-0400
TZOFFSETTO:-0500
TZNAME:EST
DTSTART:20211107T060000
END:STANDARD
BEGIN:DAYLIGHT
TZOFFSETFROM:-0500
TZOFFSETTO:-0400
TZNAME:EDT
DTSTART:20220313T070000
END:DAYLIGHT
BEGIN:STANDARD
TZOFFSETFROM:-0400
TZOFFSETTO:-0500
TZNAME:EST
DTSTART:20221106T060000
END:STANDARD
END:VTIMEZONE
BEGIN:VEVENT
DTSTART;TZID=America/New_York:20211023T163000
DTEND;TZID=America/New_York:20211023T190000
DTSTAMP:20260422T142144
CREATED:20260113T194858Z
LAST-MODIFIED:20260409T140927Z
UID:10000145-1635006600-1635015600@buenavistava.gov
SUMMARY:BVFD Annual Harvest Dinner
DESCRIPTION:Join the Buena Vista Fire Department on Saturday\, October 23\, 2021 from 4:30 PM to 7:00 PM for their annual Harvest Dinner and Gun Raffle. Event will be held at the Fire Department\, 2010 Sycamore Ave\, Buena Vista\, VA 24416\nThe dinner is eat in or carry out. See below for menu and price.\nMenu: \nHam and/or Turkey\nDressing\nMashed Potatoes\nGravy\nGreen Beans\nBrown Beans\nCole Slaw\nCranberry Sauce\nBaked Apples\nHomemade Desserts\nDrinks \nPrice ($1 off adult meal with purchase of gun raffle ticket): \n1 Meat – $11.00\n2 Meats – $13.00\nChilds Plate – $6.00 (10 and under)
URL:https://buenavistava.gov/event/bvfd-annual-harvest-dinner/
LOCATION:VA
END:VEVENT
END:VCALENDAR