BEGIN:VCALENDAR
VERSION:2.0
PRODID:-//Buena Vista - ECPv6.15.20//NONSGML v1.0//EN
CALSCALE:GREGORIAN
METHOD:PUBLISH
X-ORIGINAL-URL:https://buenavistava.gov
X-WR-CALDESC:Events for Buena Vista
REFRESH-INTERVAL;VALUE=DURATION:PT1H
X-Robots-Tag:noindex
X-PUBLISHED-TTL:PT1H
BEGIN:VTIMEZONE
TZID:America/New_York
BEGIN:DAYLIGHT
TZOFFSETFROM:-0500
TZOFFSETTO:-0400
TZNAME:EDT
DTSTART:20200308T070000
END:DAYLIGHT
BEGIN:STANDARD
TZOFFSETFROM:-0400
TZOFFSETTO:-0500
TZNAME:EST
DTSTART:20201101T060000
END:STANDARD
BEGIN:DAYLIGHT
TZOFFSETFROM:-0500
TZOFFSETTO:-0400
TZNAME:EDT
DTSTART:20210314T070000
END:DAYLIGHT
BEGIN:STANDARD
TZOFFSETFROM:-0400
TZOFFSETTO:-0500
TZNAME:EST
DTSTART:20211107T060000
END:STANDARD
BEGIN:DAYLIGHT
TZOFFSETFROM:-0500
TZOFFSETTO:-0400
TZNAME:EDT
DTSTART:20220313T070000
END:DAYLIGHT
BEGIN:STANDARD
TZOFFSETFROM:-0400
TZOFFSETTO:-0500
TZNAME:EST
DTSTART:20221106T060000
END:STANDARD
END:VTIMEZONE
BEGIN:VEVENT
DTSTART;TZID=America/New_York:20210920T173000
DTEND;TZID=America/New_York:20210920T180000
DTSTAMP:20260422T160011
CREATED:20260113T194858Z
LAST-MODIFIED:20260409T140927Z
UID:10000148-1632159000-1632160800@buenavistava.gov
SUMMARY:Multi-Jurisdictional REDI Meeting
DESCRIPTION:In 2019\, Rockbridge County\, in conjunction with the Economic Development Committee for the Chamber of Commerce\, applied for and received one of forty-eight USDA Regional Economic Development Initiative (REDI) grants issued to rural communities that are collaborating for economic growth in their regions.\nThe Committee then began work with Leslie Schaller\, ACE Network’s consultant\, to determine a strategic roadmap for economic prosperity in the region. This multijurisdictional meeting aims to present the Rockbridge Strategic Roadmap and the Rockbridge Outdoor strategic plan update. The Roadmap outlines recommendations for economic growth and quality of life improvements to advance economic opportunity for Rockbridge County\, Lexington\, and Buena Vista citizens. The Rockbridge Outdoor strategic plan update exemplifies our regional cooperation and ties into our Strategic Roadmap.\nThis meeting will be held in partnership with Lexington City Council and IDA\, as well as Rockbridge County Board of Supervisors and EDA>\n \nThe meeting will be held at the Virginia Horse Center on September 20th at 5:30 PM.
URL:https://buenavistava.gov/event/multi-jurisdictional-redi-meeting/
LOCATION:VA
END:VEVENT
END:VCALENDAR