BEGIN:VCALENDAR
VERSION:2.0
PRODID:-//Buena Vista - ECPv6.15.20//NONSGML v1.0//EN
CALSCALE:GREGORIAN
METHOD:PUBLISH
X-ORIGINAL-URL:https://buenavistava.gov
X-WR-CALDESC:Events for Buena Vista
REFRESH-INTERVAL;VALUE=DURATION:PT1H
X-Robots-Tag:noindex
X-PUBLISHED-TTL:PT1H
BEGIN:VTIMEZONE
TZID:America/New_York
BEGIN:DAYLIGHT
TZOFFSETFROM:-0500
TZOFFSETTO:-0400
TZNAME:EDT
DTSTART:20200308T070000
END:DAYLIGHT
BEGIN:STANDARD
TZOFFSETFROM:-0400
TZOFFSETTO:-0500
TZNAME:EST
DTSTART:20201101T060000
END:STANDARD
BEGIN:DAYLIGHT
TZOFFSETFROM:-0500
TZOFFSETTO:-0400
TZNAME:EDT
DTSTART:20210314T070000
END:DAYLIGHT
BEGIN:STANDARD
TZOFFSETFROM:-0400
TZOFFSETTO:-0500
TZNAME:EST
DTSTART:20211107T060000
END:STANDARD
BEGIN:DAYLIGHT
TZOFFSETFROM:-0500
TZOFFSETTO:-0400
TZNAME:EDT
DTSTART:20220313T070000
END:DAYLIGHT
BEGIN:STANDARD
TZOFFSETFROM:-0400
TZOFFSETTO:-0500
TZNAME:EST
DTSTART:20221106T060000
END:STANDARD
END:VTIMEZONE
BEGIN:VEVENT
DTSTART;VALUE=DATE:20210906
DTEND;VALUE=DATE:20210907
DTSTAMP:20260422T160014
CREATED:20260113T195501Z
LAST-MODIFIED:20260409T142140Z
UID:10000159-1630886400-1630972799@buenavistava.gov
SUMMARY:50th Annual Labor Day Festival
DESCRIPTION:Join us Monday\, September 6th for our 50th Labor Day Festival to kick off the 2021 election season in Buena Vista! \nThe day is packed full of festivities including:\n 5K road race & family fun run\n The annual parade to meet politicians & local groups\n Speeches from politicians\n Live music and performances\n Fun-filled family activities\n Fireworks! \nRegister to enter the parade at: https://www.buenavistava.org/labor-day-parade/ \nTo take part in political speeches\, call the park office at 540-261-7321 \nSee the full schedule of events below
URL:https://buenavistava.gov/event/50th-annual-labor-day-festival/
LOCATION:VA
END:VEVENT
END:VCALENDAR