BEGIN:VCALENDAR
VERSION:2.0
PRODID:-//Buena Vista - ECPv6.15.20//NONSGML v1.0//EN
CALSCALE:GREGORIAN
METHOD:PUBLISH
X-ORIGINAL-URL:https://buenavistava.gov
X-WR-CALDESC:Events for Buena Vista
REFRESH-INTERVAL;VALUE=DURATION:PT1H
X-Robots-Tag:noindex
X-PUBLISHED-TTL:PT1H
BEGIN:VTIMEZONE
TZID:America/New_York
BEGIN:DAYLIGHT
TZOFFSETFROM:-0500
TZOFFSETTO:-0400
TZNAME:EDT
DTSTART:20200308T070000
END:DAYLIGHT
BEGIN:STANDARD
TZOFFSETFROM:-0400
TZOFFSETTO:-0500
TZNAME:EST
DTSTART:20201101T060000
END:STANDARD
BEGIN:DAYLIGHT
TZOFFSETFROM:-0500
TZOFFSETTO:-0400
TZNAME:EDT
DTSTART:20210314T070000
END:DAYLIGHT
BEGIN:STANDARD
TZOFFSETFROM:-0400
TZOFFSETTO:-0500
TZNAME:EST
DTSTART:20211107T060000
END:STANDARD
BEGIN:DAYLIGHT
TZOFFSETFROM:-0500
TZOFFSETTO:-0400
TZNAME:EDT
DTSTART:20220313T070000
END:DAYLIGHT
BEGIN:STANDARD
TZOFFSETFROM:-0400
TZOFFSETTO:-0500
TZNAME:EST
DTSTART:20221106T060000
END:STANDARD
END:VTIMEZONE
BEGIN:VEVENT
DTSTART;TZID=America/New_York:20210507T170000
DTEND;TZID=America/New_York:20210507T190000
DTSTAMP:20260422T221012
CREATED:20260113T200248Z
LAST-MODIFIED:20260409T142227Z
UID:10000185-1620406800-1620414000@buenavistava.gov
SUMMARY:Trail Run & Family Fun Run
DESCRIPTION:Join us for a Trail Run & Family Fun Run and live music by Light Year! \nOn May 7th\, we will be hosting both a 5k Trail Run and a 1.5 mile Fun Run (walk or run) to as part of the Glen Maury Outdoor Series beginning and ending at the Double Decker pavilion. \nThe runs will feature staggered start times to prevent the large gathering of people at the beginning and end\, as well as requiring masks to be worn when not running. \nOpen to runners/walkers of all ages and abilities. Be advised that the trail run will have a higher difficulty level. \nThe runs will be FREE to all participants and will have a free concert at the end! \nRegister today at www.buenavistava.org/gmp-run-registration/. Registrations will also be accepted in person the day of the event. \nEvent planned and hosted with volunteers from W&L and SVU.
URL:https://buenavistava.gov/event/trail-run-family-fun-run/
LOCATION:VA
END:VEVENT
END:VCALENDAR