BEGIN:VCALENDAR
VERSION:2.0
PRODID:-//Buena Vista - ECPv6.15.20//NONSGML v1.0//EN
CALSCALE:GREGORIAN
METHOD:PUBLISH
X-ORIGINAL-URL:https://buenavistava.gov
X-WR-CALDESC:Events for Buena Vista
REFRESH-INTERVAL;VALUE=DURATION:PT1H
X-Robots-Tag:noindex
X-PUBLISHED-TTL:PT1H
BEGIN:VTIMEZONE
TZID:America/New_York
BEGIN:DAYLIGHT
TZOFFSETFROM:-0500
TZOFFSETTO:-0400
TZNAME:EDT
DTSTART:20190310T070000
END:DAYLIGHT
BEGIN:STANDARD
TZOFFSETFROM:-0400
TZOFFSETTO:-0500
TZNAME:EST
DTSTART:20191103T060000
END:STANDARD
BEGIN:DAYLIGHT
TZOFFSETFROM:-0500
TZOFFSETTO:-0400
TZNAME:EDT
DTSTART:20200308T070000
END:DAYLIGHT
BEGIN:STANDARD
TZOFFSETFROM:-0400
TZOFFSETTO:-0500
TZNAME:EST
DTSTART:20201101T060000
END:STANDARD
BEGIN:DAYLIGHT
TZOFFSETFROM:-0500
TZOFFSETTO:-0400
TZNAME:EDT
DTSTART:20210314T070000
END:DAYLIGHT
BEGIN:STANDARD
TZOFFSETFROM:-0400
TZOFFSETTO:-0500
TZNAME:EST
DTSTART:20211107T060000
END:STANDARD
END:VTIMEZONE
BEGIN:VEVENT
DTSTART;TZID=America/New_York:20200620T093000
DTEND;TZID=America/New_York:20200620T180000
DTSTAMP:20260423T152150
CREATED:20260113T200938Z
LAST-MODIFIED:20260409T143304Z
UID:10000217-1592645400-1592676000@buenavistava.gov
SUMMARY:CANCELLED – Gravista 2020 – Gravel Bike Ride
DESCRIPTION:You’re invited to the party on June 20th\, 2020! With two route distances and a kids race around the park. The race will start and end at Glen Maury park located in Buena Vista\, Virignia. It’s guaranteed to be a hard day on the bike but the views and memories will last forever! Register for the race here: https://www.bikereg.com/gravista\nJoin us on Facebook for more info!
URL:https://buenavistava.gov/event/cancelled-gravista-2020-gravel-bike-ride/
LOCATION:VA
END:VEVENT
END:VCALENDAR